View In:
ArcGIS JavaScript
ArcGIS Online Map Viewer
ArcGIS Earth
ArcGIS Pro
Service Description: <div style='text-align:Left;font-size:12pt'><p><span>2026 Pictometry orthophotos, taken in early 2026 by EagleView.</span></p></div>
Map Name: Pictometry_Orthos_2026
Legend
All Layers and Tables
Dynamic Legend
Dynamic All Layers
Layers:
Description: 2026 Pictometry orthophotos, taken by EagleView from 1/19/2026 to 3/4/2026. Created from a mosaic dataset.
Copyright Text: Henderson County, NC
Spatial Reference:
102100
(3857)
LatestVCSWkid(0)
Single Fused Map Cache: true
Tile Info:
- Height: 256.0
- Width: 256.0
- DPI: 96.0
-
Levels of Detail: 24
-
Level ID: 1
[ Start Tile, End Tile ]
- Resolution: 78271.5169639999
- Scale: 2.95828763795777E8
-
Level ID: 2
[ Start Tile, End Tile ]
- Resolution: 39135.7584820001
- Scale: 1.47914381897889E8
-
Level ID: 3
[ Start Tile, End Tile ]
- Resolution: 19567.8792409999
- Scale: 7.3957190948944E7
-
Level ID: 4
[ Start Tile, End Tile ]
- Resolution: 9783.93962049996
- Scale: 3.6978595474472E7
-
Level ID: 5
[ Start Tile, End Tile ]
- Resolution: 4891.96981024998
- Scale: 1.8489297737236E7
- Format: PNG
- Compression Quality: 0.0
- Origin: X: -2.0037508342787E7
Y: 2.0037508342787E7
- Spatial Reference: 102100
(3857)
LatestVCSWkid(0)
Storage Info:
- Storage Format: esriMapCacheStorageModeCompactV2
- Packet Size: 128
Initial Extent:
XMin: -9182321.145124434
YMin: 4204924.5603717705
XMax: -9177601.81631633
YMax: 4208708.036832846
Spatial Reference: 102100
(0)
LatestVCSWkid(0)
Full Extent:
XMin: -9202973.23600812
YMin: 4182980.2880229787
XMax: -9155995.866117515
YMax: 4233031.952437126
Spatial Reference: 102100
(0)
LatestVCSWkid(0)
Units: esriMeters
Supported Image Format Types: PNG32,PNG24,PNG,JPG,DIB,TIFF,EMF,PS,PDF,GIF,SVG,SVGZ,BMP
Document Info:
Title: 2026 Pictometry orthophotos
Author:
Comments: 2026 Pictometry orthophotos, taken by EagleView from 1/19/2026 to 3/4/2026. Created from a mosaic dataset.
Subject: 2026 Pictometry orthophotos, taken by EagleView from 1/19/2026 to 3/4/2026. Created from a mosaic dataset.
Category:
Keywords: Pictometry,EagleView,orthophotos,Henderson County,NC
AntialiasingMode: Fast
TextAntialiasingMode: Force
Supports Dynamic Layers: true
Resampling: false
MaxRecordCount: 2000
MaxImageHeight: 4096
MaxImageWidth: 4096
Supported Query Formats: JSON, geoJSON, PBF
Supports Query Data Elements: true
Min Scale: 4622324.434309
Max Scale: 282.124294
Min LOD: 7
Max LOD: 21
Supports Datum Transformation: true
Child Resources:
Info
Dynamic Layer
Supported Operations:
Export Map
Identify
QueryLegends
QueryDomains
Find
Return Updates