{ "currentVersion": 11.3, "cimVersion": "3.3.0", "serviceDescription": "
2017 LIDAR elevation with multidirectional hillshade - 3-foot cell size<\/span><\/p> <\/p><\/div>",
"mapName": "Elevation_LIDAR_Multidirectional_Hillshade_2017",
"description": "2017 LIDAR elevation with multidirectional hillshade - 3-foot cell size",
"copyrightText": "",
"supportsDynamicLayers": true,
"layers": [
{
"id": 0,
"name": "Henderson County DEM (2017 LIDAR)",
"parentLayerId": -1,
"defaultVisibility": true,
"subLayerIds": [
2
],
"minScale": 0,
"maxScale": 0,
"type": "Group Layer",
"supportsDynamicLegends": false
},
{
"id": 2,
"name": "DEM",
"parentLayerId": 0,
"defaultVisibility": true,
"subLayerIds": null,
"minScale": 0,
"maxScale": 0,
"type": "Raster Layer",
"supportsDynamicLegends": false
}
],
"tables": [],
"spatialReference": {
"wkid": 102719,
"latestWkid": 2264,
"xyTolerance": 0.003280833333333333,
"zTolerance": 0.001,
"mTolerance": 0.001,
"falseX": -121841900,
"falseY": -93659000,
"xyUnits": 3048.0060960121928,
"falseZ": -100000,
"zUnits": 10000,
"falseM": -100000,
"mUnits": 10000
},
"singleFusedMapCache": true,
"tileInfo": {
"rows": 256,
"cols": 256,
"dpi": 96,
"format": "PNG",
"compressionQuality": 0,
"origin": {
"x": 870000,
"y": 660000
},
"spatialReference": {
"wkid": 102719,
"latestWkid": 2264,
"xyTolerance": 0.003280833333333333,
"zTolerance": 0.001,
"mTolerance": 0.001,
"falseX": -121841900,
"falseY": -93659000,
"xyUnits": 3048.0060960121928,
"falseZ": -100000,
"zUnits": 10000,
"falseM": -100000,
"mUnits": 10000
},
"lods": [
{
"level": 0,
"resolution": 513591.6041666666,
"scale": 591657528
},
{
"level": 1,
"resolution": 256795.8020833333,
"scale": 295828764
},
{
"level": 2,
"resolution": 128397.90104166666,
"scale": 147914382
},
{
"level": 3,
"resolution": 64198.95052083333,
"scale": 73957191
},
{
"level": 4,
"resolution": 32099.474826388887,
"scale": 36978595
},
{
"level": 5,
"resolution": 16049.73784722222,
"scale": 18489298
},
{
"level": 6,
"resolution": 8024.86892361111,
"scale": 9244649
},
{
"level": 7,
"resolution": 4012.4340277777774,
"scale": 4622324
},
{
"level": 8,
"resolution": 2006.2170138888887,
"scale": 2311162
},
{
"level": 9,
"resolution": 1003.1085069444443,
"scale": 1155581
},
{
"level": 10,
"resolution": 501.5546875,
"scale": 577791
},
{
"level": 11,
"resolution": 250.7769097222222,
"scale": 288895
},
{
"level": 12,
"resolution": 125.38888888888889,
"scale": 144448
},
{
"level": 13,
"resolution": 62.69444444444444,
"scale": 72224
},
{
"level": 14,
"resolution": 31.34722222222222,
"scale": 36112
},
{
"level": 15,
"resolution": 15.67361111111111,
"scale": 18056
},
{
"level": 16,
"resolution": 7.836805555555555,
"scale": 9028
},
{
"level": 17,
"resolution": 3.9184027777777777,
"scale": 4514
},
{
"level": 18,
"resolution": 1.9592013888888888,
"scale": 2257
},
{
"level": 19,
"resolution": 0.9791666666666666,
"scale": 1128
},
{
"level": 20,
"resolution": 0.4895833333333333,
"scale": 564
},
{
"level": 21,
"resolution": 0.24479166666666666,
"scale": 282
},
{
"level": 22,
"resolution": 0.12239583333333333,
"scale": 141
},
{
"level": 23,
"resolution": 0.06163194444444444,
"scale": 71
}
]
},
"storageInfo": {
"storageFormat": "esriMapCacheStorageModeCompactV2",
"packetSize": 128
},
"initialExtent": {
"xmin": 894116.9178394446,
"ymin": 510786.69268181606,
"xmax": 1024537.6175863525,
"ymax": 661237.4912681972,
"spatialReference": {
"wkid": 102719,
"latestWkid": 2264,
"xyTolerance": 0.003280833333333333,
"zTolerance": 0.001,
"mTolerance": 0.001,
"falseX": -121841900,
"falseY": -93659000,
"xyUnits": 3048.0060960121928,
"falseZ": -100000,
"zUnits": 10000,
"falseM": -100000,
"mUnits": 10000
}
},
"fullExtent": {
"xmin": 882496.8835823479,
"ymin": 525000.0165835994,
"xmax": 1030000.0085468024,
"ymax": 655000.0165527684,
"spatialReference": {
"wkid": 102719,
"latestWkid": 2264,
"xyTolerance": 0.003280833333333333,
"zTolerance": 0.001,
"mTolerance": 0.001,
"falseX": -121841900,
"falseY": -93659000,
"xyUnits": 3048.0060960121928,
"falseZ": -100000,
"zUnits": 10000,
"falseM": -100000,
"mUnits": 10000
}
},
"datesInUnknownTimezone": false,
"minScale": 4622324,
"maxScale": 282,
"minLOD": 7,
"maxLOD": 21,
"units": "esriFeet",
"supportedImageFormatTypes": "PNG32,PNG24,PNG,JPG,DIB,TIFF,EMF,PS,PDF,GIF,SVG,SVGZ,BMP",
"documentInfo": {
"Title": "Henderson County Digital Elevation Model (2017 LIDAR)",
"Author": "",
"Comments": "2017 LIDAR elevation with multidirectional hillshade - 3-foot cell size",
"Subject": "",
"Category": "",
"Version": "3.3.0",
"AntialiasingMode": "Fast",
"TextAntialiasingMode": "Force",
"Keywords": ""
},
"supportsQueryDomains": true,
"capabilities": "Map,Query,Data",
"supportedQueryFormats": "JSON, geoJSON, PBF",
"exportTilesAllowed": false,
"referenceScale": 0.0,
"datumTransformations": [
{
"geoTransforms": [
{
"wkid": 108363,
"latestWkid": 108363,
"transformForward": false,
"name": "WGS_1984_(ITRF08)_To_NAD_1983_2011"
},
{
"wkid": 108190,
"latestWkid": 108190,
"transformForward": true,
"name": "WGS_1984_(ITRF00)_To_NAD_1983"
}
]
},
{
"geoTransforms": [
{
"wkid": 108190,
"latestWkid": 108190,
"transformForward": false,
"name": "WGS_1984_(ITRF00)_To_NAD_1983"
},
{
"wkid": 108363,
"latestWkid": 108363,
"transformForward": true,
"name": "WGS_1984_(ITRF08)_To_NAD_1983_2011"
}
]
},
{
"geoTransforms": [
{
"wkid": 108363,
"latestWkid": 108363,
"transformForward": false,
"name": "WGS_1984_(ITRF08)_To_NAD_1983_2011"
},
{
"wkid": 108190,
"latestWkid": 108190,
"transformForward": true,
"name": "WGS_1984_(ITRF00)_To_NAD_1983"
}
]
},
{
"geoTransforms": [
{
"wkid": 108190,
"latestWkid": 108190,
"transformForward": false,
"name": "WGS_1984_(ITRF00)_To_NAD_1983"
},
{
"wkid": 108363,
"latestWkid": 108363,
"transformForward": true,
"name": "WGS_1984_(ITRF08)_To_NAD_1983_2011"
}
]
},
{
"geoTransforms": [
{
"wkid": 108363,
"latestWkid": 108363,
"transformForward": false,
"name": "WGS_1984_(ITRF08)_To_NAD_1983_2011"
}
]
},
{
"geoTransforms": [
{
"wkid": 108363,
"latestWkid": 108363,
"transformForward": true,
"name": "WGS_1984_(ITRF08)_To_NAD_1983_2011"
}
]
},
{
"geoTransforms": [
{
"wkid": 108363,
"latestWkid": 108363,
"transformForward": false,
"name": "WGS_1984_(ITRF08)_To_NAD_1983_2011"
}
]
},
{
"geoTransforms": [
{
"wkid": 108363,
"latestWkid": 108363,
"transformForward": true,
"name": "WGS_1984_(ITRF08)_To_NAD_1983_2011"
}
]
}
],
"supportsDatumTransformation": true,
"archivingInfo": {"supportsHistoricMoment": false},
"supportsClipping": true,
"supportsSpatialFilter": true,
"supportsTimeRelation": true,
"supportsQueryDataElements": true,
"mapUnits": {"uwkid": 9003},
"maxRecordCount": 2000,
"maxImageHeight": 4096,
"maxImageWidth": 4096,
"supportedExtensions": ""
}