{
 "currentVersion": 11.3,
 "cimVersion": "3.3.0",
 "serviceDescription": " 10/50-foot contours for the new GISWeb system (replacing GoMaps 4)<\/span><\/p><\/div><\/div><\/div>",
 "mapName": "GISWeb_Contours",
 "description": "10/50-foot contours for the new GISWeb system (replacing GoMaps 4)",
 "copyrightText": "",
 "supportsDynamicLayers": true,
 "layers": [
  {
   "id": 41,
   "name": "50-foot Contours",
   "parentLayerId": -1,
   "defaultVisibility": true,
   "subLayerIds": null,
   "minScale": 0,
   "maxScale": 0,
   "type": "Feature Layer",
   "geometryType": "esriGeometryPolyline",
   "supportsDynamicLegends": true
  },
  {
   "id": 42,
   "name": "5-foot Contours",
   "parentLayerId": -1,
   "defaultVisibility": true,
   "subLayerIds": null,
   "minScale": 12000,
   "maxScale": 0,
   "type": "Feature Layer",
   "geometryType": "esriGeometryPolyline",
   "supportsDynamicLegends": true
  }
 ],
 "tables": [],
 "spatialReference": {
  "wkid": 102719,
  "latestWkid": 2264,
  "xyTolerance": 0.003280833333333333,
  "zTolerance": 0.001,
  "mTolerance": 0.001,
  "falseX": -121841900,
  "falseY": -93659000,
  "xyUnits": 3048.0060960121928,
  "falseZ": -100000,
  "zUnits": 10000,
  "falseM": -100000,
  "mUnits": 10000
 },
 "singleFusedMapCache": true,
 "tileInfo": {
  "rows": 256,
  "cols": 256,
  "dpi": 96,
  "format": "PNG",
  "compressionQuality": 0,
  "origin": {
   "x": 870000,
   "y": 660000
  },
  "spatialReference": {
   "wkid": 102719,
   "latestWkid": 2264,
   "xyTolerance": 0.003280833333333333,
   "zTolerance": 0.001,
   "mTolerance": 0.001,
   "falseX": -121841900,
   "falseY": -93659000,
   "xyUnits": 3048.0060960121928,
   "falseZ": -100000,
   "zUnits": 10000,
   "falseM": -100000,
   "mUnits": 10000
  },
  "lods": [
   {
    "level": 0,
    "resolution": 513591.6041666666,
    "scale": 591657528
   },
   {
    "level": 1,
    "resolution": 256795.8020833333,
    "scale": 295828764
   },
   {
    "level": 2,
    "resolution": 128397.90104166666,
    "scale": 147914382
   },
   {
    "level": 3,
    "resolution": 64198.95052083333,
    "scale": 73957191
   },
   {
    "level": 4,
    "resolution": 32099.474826388887,
    "scale": 36978595
   },
   {
    "level": 5,
    "resolution": 16049.73784722222,
    "scale": 18489298
   },
   {
    "level": 6,
    "resolution": 8024.86892361111,
    "scale": 9244649
   },
   {
    "level": 7,
    "resolution": 4012.4340277777774,
    "scale": 4622324
   },
   {
    "level": 8,
    "resolution": 2006.2170138888887,
    "scale": 2311162
   },
   {
    "level": 9,
    "resolution": 1003.1085069444443,
    "scale": 1155581
   },
   {
    "level": 10,
    "resolution": 501.5546875,
    "scale": 577791
   },
   {
    "level": 11,
    "resolution": 250.7769097222222,
    "scale": 288895
   },
   {
    "level": 12,
    "resolution": 125.38888888888889,
    "scale": 144448
   },
   {
    "level": 13,
    "resolution": 62.69444444444444,
    "scale": 72224
   },
   {
    "level": 14,
    "resolution": 31.34722222222222,
    "scale": 36112
   },
   {
    "level": 15,
    "resolution": 15.67361111111111,
    "scale": 18056
   },
   {
    "level": 16,
    "resolution": 7.836805555555555,
    "scale": 9028
   },
   {
    "level": 17,
    "resolution": 3.9184027777777777,
    "scale": 4514
   },
   {
    "level": 18,
    "resolution": 1.9592013888888888,
    "scale": 2257
   },
   {
    "level": 19,
    "resolution": 0.9791666666666666,
    "scale": 1128
   },
   {
    "level": 20,
    "resolution": 0.4895833333333333,
    "scale": 564
   },
   {
    "level": 21,
    "resolution": 0.24479166666666666,
    "scale": 282
   },
   {
    "level": 22,
    "resolution": 0.12239583333333333,
    "scale": 141
   },
   {
    "level": 23,
    "resolution": 0.06163194444444444,
    "scale": 71
   }
  ]
 },
 "storageInfo": {
  "storageFormat": "esriMapCacheStorageModeCompactV2",
  "packetSize": 128
 },
 "initialExtent": {
  "xmin": 861276.2965300598,
  "ymin": 507213.26865080104,
  "xmax": 1060518.7424423064,
  "ymax": 672976.964998183,
  "spatialReference": {
   "wkid": 102719,
   "latestWkid": 2264,
   "xyTolerance": 0.003280833333333333,
   "zTolerance": 0.001,
   "mTolerance": 0.001,
   "falseX": -121841900,
   "falseY": -93659000,
   "xyUnits": 3048.0060960121928,
   "falseZ": -100000,
   "zUnits": 10000,
   "falseM": -100000,
   "mUnits": 10000
  }
 },
 "fullExtent": {
  "xmin": 900676.8959716294,
  "ymin": 529841.9779795397,
  "xmax": 1031349.8203535689,
  "ymax": 653278.7621898839,
  "spatialReference": {
   "wkid": 102719,
   "latestWkid": 2264,
   "xyTolerance": 0.003280833333333333,
   "zTolerance": 0.001,
   "mTolerance": 0.001,
   "falseX": -121841900,
   "falseY": -93659000,
   "xyUnits": 3048.0060960121928,
   "falseZ": -100000,
   "zUnits": 10000,
   "falseM": -100000,
   "mUnits": 10000
  }
 },
 "datesInUnknownTimezone": false,
 "minScale": 4622324,
 "maxScale": 282,
 "minLOD": 7,
 "maxLOD": 21,
 "units": "esriFeet",
 "supportedImageFormatTypes": "PNG32,PNG24,PNG,JPG,DIB,TIFF,EMF,PS,PDF,GIF,SVG,SVGZ,BMP",
 "documentInfo": {
  "Title": "Contours",
  "Author": "",
  "Comments": "10/50-foot contours for the new GISWeb system (replacing GoMaps 4)",
  "Subject": "10/50-foot contours for the new GISWeb system (replacing GoMaps 4)",
  "Category": "",
  "Version": "3.3.0",
  "AntialiasingMode": "None",
  "TextAntialiasingMode": "None",
  "Keywords": "Henderson County,NC"
 },
 "supportsQueryDomains": true,
 "capabilities": "Map,Query,Data",
 "supportedQueryFormats": "JSON, geoJSON, PBF",
 "exportTilesAllowed": false,
 "referenceScale": 0.0,
 "supportsDatumTransformation": true,
 "archivingInfo": {
  "supportsHistoricMoment": false
 },
 "supportsClipping": true,
 "supportsSpatialFilter": true,
 "supportsTimeRelation": true,
 "supportsQueryDataElements": true,
 "mapUnits": {
  "uwkid": 9003
 },
 "maxRecordCount": 2000,
 "maxImageHeight": 4096,
 "maxImageWidth": 4096,
 "supportedExtensions": "",
 "resampling": false
}
